BEGIN:VCALENDAR
VERSION:2.0
PRODID:-//Canadian Plains District - ECPv6.13.2.1//NONSGML v1.0//EN
CALSCALE:GREGORIAN
METHOD:PUBLISH
X-ORIGINAL-URL:https://canadianplainsupci.com
X-WR-CALDESC:Events for Canadian Plains District
REFRESH-INTERVAL;VALUE=DURATION:PT1H
X-Robots-Tag:noindex
X-PUBLISHED-TTL:PT1H
BEGIN:VTIMEZONE
TZID:UTC
BEGIN:STANDARD
TZOFFSETFROM:+0000
TZOFFSETTO:+0000
TZNAME:UTC
DTSTART:20250101T000000
END:STANDARD
END:VTIMEZONE
BEGIN:VEVENT
DTSTART;TZID=UTC:20251115T130000
DTEND;TZID=UTC:20251115T190000
DTSTAMP:20260423T062433
CREATED:20251127T041756Z
LAST-MODIFIED:20251127T041806Z
UID:1305-1763211600-1763233200@canadianplainsupci.com
SUMMARY:Section 1 - CPD Youth Rally
DESCRIPTION:Join us for Youth Rally Section 1 on November 15 at 1PM at Shiloh Pentecostal Church 🙌\n🎤 Speaker: Sis Atalie Alexander \nThen head over for the Afterburner Bowling Party 🎳\n📍 St Albert Bowling & Rec Centre | 5PM\n💵 $15 per bowler (includes games and fun fellowship!) \nCome be part of a powerful move of God and connect with amazing people 🙏
URL:https://canadianplainsupci.com/event/section-1-youth-rally/
LOCATION:Albdrta
ATTACH;FMTTYPE=image/png:https://canadianplainsupci.com/wp-content/uploads/2025/11/Screenshot-2025-11-26-at-9.15.01-PM.png
END:VEVENT
END:VCALENDAR