BEGIN:VCALENDAR
VERSION:2.0
PRODID:-//Canadian Plains District - ECPv6.13.2.1//NONSGML v1.0//EN
CALSCALE:GREGORIAN
METHOD:PUBLISH
X-ORIGINAL-URL:https://canadianplainsupci.com
X-WR-CALDESC:Events for Canadian Plains District
REFRESH-INTERVAL;VALUE=DURATION:PT1H
X-Robots-Tag:noindex
X-PUBLISHED-TTL:PT1H
BEGIN:VTIMEZONE
TZID:UTC
BEGIN:STANDARD
TZOFFSETFROM:+0000
TZOFFSETTO:+0000
TZNAME:UTC
DTSTART:20250101T000000
END:STANDARD
END:VTIMEZONE
BEGIN:VEVENT
DTSTART;TZID=UTC:20251213T150000
DTEND;TZID=UTC:20251213T193000
DTSTAMP:20260423T062043
CREATED:20251127T042018Z
LAST-MODIFIED:20251127T042018Z
UID:1310-1765638000-1765654200@canadianplainsupci.com
SUMMARY:Section 2 - CPD Youth Rally
DESCRIPTION:YOU’RE INVITED 🫵🏽 \nSave the date: December 13 at 3PM \nSection 2 Youth Rally!\n📍 Day of Pentecost Apostolic Church of Calgary\n10504 42 St SE\, Calgary\, AB T2C 5B9 \n🎤 Speaker: Ptr. Joebert Enriquez\n🔥 Afterburner: TBD \nCome worship\, connect\, and be encouraged.\nWe can’t wait to see you there!
URL:https://canadianplainsupci.com/event/section-2-cpd-youth-rally/
LOCATION:Day of Pentecost Apostolic Church\, 2424 91 Ave SE\, Calgary\, Alberta\, T2C 5H2\, Canada
ATTACH;FMTTYPE=image/png:https://canadianplainsupci.com/wp-content/uploads/2025/11/Screenshot-2025-11-26-at-9.15.24-PM.png
END:VEVENT
END:VCALENDAR