BEGIN:VCALENDAR
VERSION:2.0
PRODID:-//Canadian Plains District - ECPv6.13.2.1//NONSGML v1.0//EN
CALSCALE:GREGORIAN
METHOD:PUBLISH
X-WR-CALNAME:Canadian Plains District
X-ORIGINAL-URL:https://canadianplainsupci.com
X-WR-CALDESC:Events for Canadian Plains District
REFRESH-INTERVAL;VALUE=DURATION:PT1H
X-Robots-Tag:noindex
X-PUBLISHED-TTL:PT1H
BEGIN:VTIMEZONE
TZID:UTC
BEGIN:STANDARD
TZOFFSETFROM:+0000
TZOFFSETTO:+0000
TZNAME:UTC
DTSTART:20260101T000000
END:STANDARD
END:VTIMEZONE
BEGIN:VEVENT
DTSTART;VALUE=DATE:20260401
DTEND;VALUE=DATE:20260404
DTSTAMP:20260422T180246
CREATED:20251014T225256Z
LAST-MODIFIED:20260209T155244Z
UID:1159-1775001600-1775260799@canadianplainsupci.com
SUMMARY:Youth Conference
DESCRIPTION:Registration:\nwww.cpdy.ca
URL:https://canadianplainsupci.com/event/youth-conference-2/
LOCATION:Edmonton Convention Centre\, 9797 Jasper Ave\, Edmonton\, Alberta\, T5J 1N9\, Canada
ATTACH;FMTTYPE=image/jpeg:https://canadianplainsupci.com/wp-content/uploads/2025/10/WhatsApp-Image-2026-01-24-at-3.05.24-PM.jpeg
END:VEVENT
BEGIN:VEVENT
DTSTART;VALUE=DATE:20260403
DTEND;VALUE=DATE:20260404
DTSTAMP:20260422T180246
CREATED:20251014T030656Z
LAST-MODIFIED:20251014T030656Z
UID:1148-1775174400-1775260799@canadianplainsupci.com
SUMMARY:District Conference
DESCRIPTION:
URL:https://canadianplainsupci.com/event/district-conference-3/
LOCATION:Shiloh Pentecostal Church\, 1 Gate Ave.\, St. Albert\, Alberta\, T8N 0R4\, Canada
END:VEVENT
END:VCALENDAR