BEGIN:VCALENDAR
VERSION:2.0
PRODID:-//Canadian Plains District - ECPv6.13.2.1//NONSGML v1.0//EN
CALSCALE:GREGORIAN
METHOD:PUBLISH
X-ORIGINAL-URL:https://canadianplainsupci.com
X-WR-CALDESC:Events for Canadian Plains District
REFRESH-INTERVAL;VALUE=DURATION:PT1H
X-Robots-Tag:noindex
X-PUBLISHED-TTL:PT1H
BEGIN:VTIMEZONE
TZID:UTC
BEGIN:STANDARD
TZOFFSETFROM:+0000
TZOFFSETTO:+0000
TZNAME:UTC
DTSTART:20260101T000000
END:STANDARD
END:VTIMEZONE
BEGIN:VEVENT
DTSTART;VALUE=DATE:20260430
DTEND;VALUE=DATE:20260503
DTSTAMP:20260422T221120
CREATED:20251013T221147Z
LAST-MODIFIED:20260403T203127Z
UID:1093-1777507200-1777766399@canadianplainsupci.com
SUMMARY:Canada Conference
DESCRIPTION:
URL:https://canadianplainsupci.com/event/canada-conference/
LOCATION:Saint-Laurent United Pentecostal Church\, 1375 Rue Poirier\, Montreal\, Quebec\, H4L 5K7\, Canada
ATTACH;FMTTYPE=image/png:https://canadianplainsupci.com/wp-content/uploads/2025/10/Poster-Canada-Conference-2026.png
END:VEVENT
BEGIN:VEVENT
DTSTART;VALUE=DATE:20260709
DTEND;VALUE=DATE:20260712
DTSTAMP:20260422T221120
CREATED:20251014T225222Z
LAST-MODIFIED:20260122T161500Z
UID:1157-1783555200-1783814399@canadianplainsupci.com
SUMMARY:Men's and Women's Conference
DESCRIPTION:Speakers: Stan and Linda Gleason
URL:https://canadianplainsupci.com/event/mens-and-womens-conference/
LOCATION:Laurier Heights Baptist Church\, 8505 142 Street\, Edmonton\, Alberta\, T5R 0M2\, Canada
END:VEVENT
BEGIN:VEVENT
DTSTART;VALUE=DATE:20260804
DTEND;VALUE=DATE:20260808
DTSTAMP:20260422T221120
CREATED:20251014T225029Z
LAST-MODIFIED:20260403T153337Z
UID:1154-1785801600-1786147199@canadianplainsupci.com
SUMMARY:Camp Meeting
DESCRIPTION:Speakers:\nMark Drost\nJeremy Painter
URL:https://canadianplainsupci.com/event/camp-meeting-2/
LOCATION:Daystar Church\, 3610 C. W. Gaetz Rd.\, Leduc\, Alberta\, T9E 1L6\, Canada
END:VEVENT
BEGIN:VEVENT
DTSTART;VALUE=DATE:20260929
DTEND;VALUE=DATE:20261003
DTSTAMP:20260422T221120
CREATED:20251014T025809Z
LAST-MODIFIED:20251014T025809Z
UID:1145-1790640000-1790985599@canadianplainsupci.com
SUMMARY:General Conference
DESCRIPTION:
URL:https://canadianplainsupci.com/event/general-conference-3/
LOCATION:Salt Lake City\, Salt Lake City\, UT\, United States
END:VEVENT
BEGIN:VEVENT
DTSTART;VALUE=DATE:20261113
DTEND;VALUE=DATE:20261115
DTSTAMP:20260422T221120
CREATED:20260403T153147Z
LAST-MODIFIED:20260403T153147Z
UID:1583-1794528000-1794700799@canadianplainsupci.com
SUMMARY:WNOP Prayer Summit
DESCRIPTION:Speaker: Evangelist Tim Greene
URL:https://canadianplainsupci.com/event/wnop-prayer-summit/
LOCATION:St. Albert Inn\, 156 St Albert Trail\, St. Albert\, Albdrta\, T8N 0P5\, Canada
END:VEVENT
END:VCALENDAR