BEGIN:VCALENDAR
VERSION:2.0
PRODID:-//Canadian Plains District - ECPv6.13.2.1//NONSGML v1.0//EN
CALSCALE:GREGORIAN
METHOD:PUBLISH
X-WR-CALNAME:Canadian Plains District
X-ORIGINAL-URL:https://canadianplainsupci.com
X-WR-CALDESC:Events for Canadian Plains District
REFRESH-INTERVAL;VALUE=DURATION:PT1H
X-Robots-Tag:noindex
X-PUBLISHED-TTL:PT1H
BEGIN:VTIMEZONE
TZID:UTC
BEGIN:STANDARD
TZOFFSETFROM:+0000
TZOFFSETTO:+0000
TZNAME:UTC
DTSTART:20240101T000000
END:STANDARD
END:VTIMEZONE
BEGIN:VEVENT
DTSTART;VALUE=DATE:20241001
DTEND;VALUE=DATE:20241005
DTSTAMP:20260422T221221
CREATED:20231117T145931Z
LAST-MODIFIED:20231117T145931Z
UID:44-1727740800-1728086399@canadianplainsupci.com
SUMMARY:General Conference
DESCRIPTION:
URL:https://canadianplainsupci.com/event/general-conference/
LOCATION:Long Beach Convention Centre\, 300 E Ocean Blvd\, Long Beach\, 90802\, United States
END:VEVENT
BEGIN:VEVENT
DTSTART;TZID=UTC:20240920T190000
DTEND;TZID=UTC:20240921T150000
DTSTAMP:20260422T221221
CREATED:20240802T224646Z
LAST-MODIFIED:20240803T021806Z
UID:376-1726858800-1726930800@canadianplainsupci.com
SUMMARY:Christian Prison Ministry Conference
DESCRIPTION:Speaker: Nicholes Robbins\nHost Church: Rock Church Calgary \nThis conference will provide training for volunteer chaplains\, serving those behind bars.  Additionally\, those who take the life recovery training can then serve their community with tools that touch the lives and hearts of those who are hurting and/or experiencing substance abuse. These two training opportunities enable your church to extend outreach efforts and provide relevant support to those who need Jesus. \nAll are invited to register to attend: Prison Ministry Conference \nConference Program\nFriday\, September 20\, 2024 [7:00 PM]\n• Registration & Prayer\n• Welcome & Introduction\n• Website\, Training & Certification\n• Worship & Keynote Address\nSaturday\, September 21\, 2024 [9:00 AM – 3:00 PM]\n• Volunteer Chaplaincy Training\n• Life Recovery Training
URL:https://canadianplainsupci.com/event/canadian-christian-ministry-conference/
LOCATION:The Rock Church\, 3109 34 Ave SE\, Calgary\, Alberta\, T2B 2M6\, Canada
END:VEVENT
BEGIN:VEVENT
DTSTART;VALUE=DATE:20240806
DTEND;VALUE=DATE:20240810
DTSTAMP:20260422T221221
CREATED:20231116T213206Z
LAST-MODIFIED:20240711T181517Z
UID:21-1722902400-1723247999@canadianplainsupci.com
SUMMARY:Camp Meeting
DESCRIPTION:Speakers:\nJim Blackshear\nDavid Ferrell \nRegistration Fees per Day:\nAdults: $20\n12 – 17 Years Old: $10\nFree for under 12 years old.\nNo cost for Tuesday night!
URL:https://canadianplainsupci.com/event/camp-meeting/
LOCATION:Foothills Alliance Church\, 333 Edgepark Blvd NW\, Calgary\, Alberta\, T3A 4K4\, Canada
END:VEVENT
BEGIN:VEVENT
DTSTART;VALUE=DATE:20240711
DTEND;VALUE=DATE:20240714
DTSTAMP:20260422T221221
CREATED:20231116T212302Z
LAST-MODIFIED:20240514T192252Z
UID:15-1720656000-1720915199@canadianplainsupci.com
SUMMARY:Filipino Evangelism Conference
DESCRIPTION:
URL:https://canadianplainsupci.com/event/filipino-evangelism-conference/
LOCATION:Laurier Heights Baptist Church\, 8505 142 Street\, Edmonton\, Alberta\, T5R 0M2\, Canada
END:VEVENT
BEGIN:VEVENT
DTSTART;VALUE=DATE:20240704
DTEND;VALUE=DATE:20240707
DTSTAMP:20260422T221221
CREATED:20231119T031903Z
LAST-MODIFIED:20241119T030002Z
UID:47-1720051200-1720310399@canadianplainsupci.com
SUMMARY:Women's Conference
DESCRIPTION:Speakers:\nWanda Chavis\nCarla Burton \n \nSpecial group rates are available at:\nHilton Garden Inn West Edmonton\n17610 Stony Plain Road\nEdmonton\, AB T5S 1A2\nCall 780-443-2233 to book your room before June 4\, 2024. Mention “Canadian Plains District Ladies Conference”
URL:https://canadianplainsupci.com/event/womens-conference/
LOCATION:Covenant Christian Reform Church\, 19010 87 Ave NW\, Edmonton\, Alberta\, T5T 6P2\, Canada
END:VEVENT
BEGIN:VEVENT
DTSTART;VALUE=DATE:20240614
DTEND;VALUE=DATE:20240616
DTSTAMP:20260422T221221
CREATED:20231125T172218Z
LAST-MODIFIED:20240529T135913Z
UID:110-1718323200-1718495999@canadianplainsupci.com
SUMMARY:Men's Conference
DESCRIPTION:Keynote Speaker: \nAndrew Dillon\nSuperintendent\, United Pentecostal Church of British Columbia
URL:https://canadianplainsupci.com/event/mens-conference/
LOCATION:Day of Pentecost Apostolic Church\, 2424 91 Ave SE\, Calgary\, Alberta\, T2C 5H2\, Canada
END:VEVENT
BEGIN:VEVENT
DTSTART;VALUE=DATE:20240502
DTEND;VALUE=DATE:20240504
DTSTAMP:20260422T221221
CREATED:20231116T213024Z
LAST-MODIFIED:20240418T225318Z
UID:18-1714608000-1714780799@canadianplainsupci.com
SUMMARY:District Conference - Sanctuary Sold Out
DESCRIPTION:Speaker:\nDavid Bernard\nGeneral Superintendent\, UPCI \nSchedule:\nThursday\, May 2\, 7:00 pm: Evening Service\nFriday\, May 3\, 8:30 am: Section Three Conference\nFriday\, May 3\, 9:00 am: District Conference\nFriday\, May 3\, 7:00 pm: Evening Service \nThis event has reached capacity except for seats in the overflow room.
URL:https://canadianplainsupci.com/event/district-conference/
LOCATION:New Life Church Saskatoon\, 143 Wedge Road\, Saskatoon\, Saskatoon\, S7L 6P9\, Canada
END:VEVENT
BEGIN:VEVENT
DTSTART;VALUE=DATE:20240328
DTEND;VALUE=DATE:20240330
DTSTAMP:20260422T221221
CREATED:20240325T200353Z
LAST-MODIFIED:20240325T203127Z
UID:283-1711584000-1711756799@canadianplainsupci.com
SUMMARY:Save Our Children Rally (at Youth Conference)
DESCRIPTION:Ministry Leaders and Evangists:\nBro. Steve & Sis. Cannon\nBro. Nathan Roberts \nHoly Ghost Rally – 10:30 am Thursday and Friday (after Youth Conference song service) \nAfternoon Seminars – 3:00 pm – 4:00 pm Thursday and Friday\nInsights and strategies for Sunday School teachers\nNote: While the children’s rally and seminars are free to access\, this event is blessed to be happening simultaneously with the Youth Conference. Tickets to access YC services and afterburners will be required.
URL:https://canadianplainsupci.com/event/save-our-children-rally-at-youth-conference/
LOCATION:Hotel Arts\, 119 12 Ave SW\, Calgary\, Alberta\, T2R 0G8\, Canada
END:VEVENT
BEGIN:VEVENT
DTSTART;VALUE=DATE:20240327
DTEND;VALUE=DATE:20240330
DTSTAMP:20260422T221221
CREATED:20231116T210608Z
LAST-MODIFIED:20240202T172851Z
UID:5-1711497600-1711756799@canadianplainsupci.com
SUMMARY:Youth Conference
DESCRIPTION:Speaker:\nMark Brown\nPastor\, Jesus Church\nWaterton\, South Dakoda \nFor more information and to purchase tickets.   \nOr go to Eventbrite.ca and search “Bear Witness.”
URL:https://canadianplainsupci.com/event/youth-conference/
LOCATION:Hotel Arts\, 119 12 Ave SW\, Calgary\, Alberta\, T2R 0G8\, Canada
END:VEVENT
END:VCALENDAR