BEGIN:VCALENDAR
VERSION:2.0
PRODID:-//Canadian Plains District - ECPv6.13.2.1//NONSGML v1.0//EN
CALSCALE:GREGORIAN
METHOD:PUBLISH
X-WR-CALNAME:Canadian Plains District
X-ORIGINAL-URL:https://canadianplainsupci.com
X-WR-CALDESC:Events for Canadian Plains District
REFRESH-INTERVAL;VALUE=DURATION:PT1H
X-Robots-Tag:noindex
X-PUBLISHED-TTL:PT1H
BEGIN:VTIMEZONE
TZID:UTC
BEGIN:STANDARD
TZOFFSETFROM:+0000
TZOFFSETTO:+0000
TZNAME:UTC
DTSTART:20240101T000000
END:STANDARD
END:VTIMEZONE
BEGIN:VEVENT
DTSTART;VALUE=DATE:20240806
DTEND;VALUE=DATE:20240810
DTSTAMP:20260425T125708
CREATED:20231116T213206Z
LAST-MODIFIED:20240711T181517Z
UID:21-1722902400-1723247999@canadianplainsupci.com
SUMMARY:Camp Meeting
DESCRIPTION:Speakers:\nJim Blackshear\nDavid Ferrell \nRegistration Fees per Day:\nAdults: $20\n12 – 17 Years Old: $10\nFree for under 12 years old.\nNo cost for Tuesday night!
URL:https://canadianplainsupci.com/event/camp-meeting/
LOCATION:Foothills Alliance Church\, 333 Edgepark Blvd NW\, Calgary\, Alberta\, T3A 4K4\, Canada
END:VEVENT
END:VCALENDAR