BEGIN:VCALENDAR
VERSION:2.0
PRODID:-//Canadian Plains District - ECPv6.13.2.1//NONSGML v1.0//EN
CALSCALE:GREGORIAN
METHOD:PUBLISH
X-ORIGINAL-URL:https://canadianplainsupci.com
X-WR-CALDESC:Events for Canadian Plains District
REFRESH-INTERVAL;VALUE=DURATION:PT1H
X-Robots-Tag:noindex
X-PUBLISHED-TTL:PT1H
BEGIN:VTIMEZONE
TZID:UTC
BEGIN:STANDARD
TZOFFSETFROM:+0000
TZOFFSETTO:+0000
TZNAME:UTC
DTSTART:20250101T000000
END:STANDARD
END:VTIMEZONE
BEGIN:VEVENT
DTSTART;VALUE=DATE:20251031
DTEND;VALUE=DATE:20251102
DTSTAMP:20260423T045717
CREATED:20251027T211420Z
LAST-MODIFIED:20251027T212129Z
UID:1174-1761868800-1762041599@canadianplainsupci.com
SUMMARY:Spanish Men's Conference
DESCRIPTION:Speaker: Larry Romero \nFriday 7:00 pm\nSaturday 2:00 pm and 6:00 pm
URL:https://canadianplainsupci.com/event/spanish-mens-conference/
LOCATION:The Pentecostals of Calgary\, 2220 39 Ave NE\, Calgary\, Alberta\, T2E 6P7\, Canada
END:VEVENT
BEGIN:VEVENT
DTSTART;TZID=UTC:20251115T130000
DTEND;TZID=UTC:20251115T190000
DTSTAMP:20260423T045717
CREATED:20251127T041756Z
LAST-MODIFIED:20251127T041806Z
UID:1305-1763211600-1763233200@canadianplainsupci.com
SUMMARY:Section 1 - CPD Youth Rally
DESCRIPTION:Join us for Youth Rally Section 1 on November 15 at 1PM at Shiloh Pentecostal Church 🙌\n🎤 Speaker: Sis Atalie Alexander \nThen head over for the Afterburner Bowling Party 🎳\n📍 St Albert Bowling & Rec Centre | 5PM\n💵 $15 per bowler (includes games and fun fellowship!) \nCome be part of a powerful move of God and connect with amazing people 🙏
URL:https://canadianplainsupci.com/event/section-1-youth-rally/
LOCATION:Albdrta
ATTACH;FMTTYPE=image/png:https://canadianplainsupci.com/wp-content/uploads/2025/11/Screenshot-2025-11-26-at-9.15.01-PM.png
END:VEVENT
BEGIN:VEVENT
DTSTART;TZID=UTC:20251127T080000
DTEND;TZID=UTC:20251127T170000
DTSTAMP:20260423T045717
CREATED:20251127T042235Z
LAST-MODIFIED:20251127T042235Z
UID:1313-1764230400-1764262800@canadianplainsupci.com
SUMMARY:Section 3 - CPD Youth Rally
DESCRIPTION:Inviting all youth and young adults to attend our Section 3 Youth Rally! \n📅Date: November 29\, 2025\n⏱️Time: 2:00 PM\n📍Location: Moose Jaw New Life Tabernacle\n61 Avens Rd\, Moose Jaw\, SK S6J 1C9 \nSpeaker: Ptr. Harton Bulatao \nFollowing the service\, an afterburner fellowship will be held at:\n📍Hillcrest Apostolic Church\n1550 Main St N\, Moose Jaw\, SK S6J 1L3 \nAfterburner Registration: $5\nYouth Rally Registration: None required! \nCome expectant for a powerful move of God as we gather together in worship and unity!
URL:https://canadianplainsupci.com/event/section-3-cpd-youth-rally/
LOCATION:Moose Jaw New life Tabernacle\, 61 Avens Road\, Moose Jaw\, Saskatchewan\, SKS6J\, Canada
ATTACH;FMTTYPE=image/png:https://canadianplainsupci.com/wp-content/uploads/2025/11/Screenshot-2025-11-26-at-9.15.13-PM.png
END:VEVENT
END:VCALENDAR