BEGIN:VCALENDAR
VERSION:2.0
PRODID:-//Canadian Plains District - ECPv6.13.2.1//NONSGML v1.0//EN
CALSCALE:GREGORIAN
METHOD:PUBLISH
X-ORIGINAL-URL:https://canadianplainsupci.com
X-WR-CALDESC:Events for Canadian Plains District
REFRESH-INTERVAL;VALUE=DURATION:PT1H
X-Robots-Tag:noindex
X-PUBLISHED-TTL:PT1H
BEGIN:VTIMEZONE
TZID:UTC
BEGIN:STANDARD
TZOFFSETFROM:+0000
TZOFFSETTO:+0000
TZNAME:UTC
DTSTART:20260101T000000
END:STANDARD
END:VTIMEZONE
BEGIN:VEVENT
DTSTART;VALUE=DATE:20260430
DTEND;VALUE=DATE:20260503
DTSTAMP:20260422T180531
CREATED:20251013T221147Z
LAST-MODIFIED:20260403T203127Z
UID:1093-1777507200-1777766399@canadianplainsupci.com
SUMMARY:Canada Conference
DESCRIPTION:
URL:https://canadianplainsupci.com/event/canada-conference/
LOCATION:Saint-Laurent United Pentecostal Church\, 1375 Rue Poirier\, Montreal\, Quebec\, H4L 5K7\, Canada
ATTACH;FMTTYPE=image/png:https://canadianplainsupci.com/wp-content/uploads/2025/10/Poster-Canada-Conference-2026.png
END:VEVENT
END:VCALENDAR